BEGIN:VCALENDAR
VERSION:2.0
PRODID:-//Nainital.Info - ECPv6.13.2.1//NONSGML v1.0//EN
CALSCALE:GREGORIAN
METHOD:PUBLISH
X-ORIGINAL-URL:https://www.nainital.info
X-WR-CALDESC:Events for Nainital.Info
REFRESH-INTERVAL;VALUE=DURATION:PT1H
X-Robots-Tag:noindex
X-PUBLISHED-TTL:PT1H
BEGIN:VTIMEZONE
TZID:Asia/Kolkata
BEGIN:STANDARD
TZOFFSETFROM:+0530
TZOFFSETTO:+0530
TZNAME:IST
DTSTART:20140101T000000
END:STANDARD
END:VTIMEZONE
BEGIN:VEVENT
DTSTART;VALUE=DATE:20141003
DTEND;VALUE=DATE:20141004
DTSTAMP:20260425T005240
CREATED:20141002T143421Z
LAST-MODIFIED:20141126T154955Z
UID:2880-1412294400-1412380799@www.nainital.info
SUMMARY:Vijayadashami\, Flats\, Nainital.
DESCRIPTION:Vijayadashami \nVijayadashami also known as Dussehra or Dashain or Tenth day of Navratri or Durgotsav is one of the most important Hindu festivals celebrated in various forms. The name Dussehra is derived from Sanskrit Dasha-hara literally means The sun will not rise (Dasha (sun) and Hara (defeat)) referring to Lord Rama’s victory over the ten-headed demon king Ravana. \n 
URL:https://www.nainital.info/events/vijayadashami/
LOCATION:Flats\, Mallital\, Nainital\, Uttarakhand\, 263001\, India
END:VEVENT
BEGIN:VEVENT
DTSTART;TZID=Asia/Kolkata:20140831T070000
DTEND;TZID=Asia/Kolkata:20140831T170000
DTSTAMP:20260425T005240
CREATED:20140722T173844Z
LAST-MODIFIED:20141126T154804Z
UID:2814-1409468400-1409504400@www.nainital.info
SUMMARY:Nainital Monsoon Mountain Marathon
DESCRIPTION:Nainital Mountain Monsoon Marathon (NM3) is a unique concept brought together by the like-minded youth associated with the organisation “Run2Live” that believes in bringing a change. The marathon is held in Nainital\, Uttarakhand\, India\, every year on the last Sunday of the month August.  For those who want to see a change in society and believe every single step is a mile stone towards building a healthy and strong nation –come and run. The Nainital Monsoon Mountain Marathon was started in 2007 and 2014 will be the 5th edition of the run. 5th Nainital Monsoon Mountain Marathon (Dedicated to all the Mothers) \nFor More Detail Please Check : –  Program Detail
URL:https://www.nainital.info/events/nainital-monsoon-mountain-marathon/
LOCATION:Band Stand Mallital (Flats)\, Mallital\, Nainital\, Uttarakhand\, 263001\, India
END:VEVENT
BEGIN:VEVENT
DTSTART;TZID=Asia/Kolkata:20140830T060000
DTEND;TZID=Asia/Kolkata:20140905T170000
DTSTAMP:20260425T005240
CREATED:20140807T171652Z
LAST-MODIFIED:20141126T154725Z
UID:2820-1409378400-1409936400@www.nainital.info
SUMMARY:Nanda Devi Mahotsav
DESCRIPTION:  \nNanda Devi Mahotsav. \nThe best known fair of Kumaon Division is Nanda Devi Fair. It is orgnised in many places like Almora\, Nainital\, Bageshwar\, Bhowali\, Kot (Dangoli) and also in the far flung villages of Johar ( like Milam and Martoli ) of Kumaun during the month of September .\n\nMain fair is held at Almora town\, it is organized since the Chand kings ruled this place. It is believed that ‘Nanda’ used to be the family Goddess of Chanda dynasty. The word meaning of the word ‘Nanda’ is prosperity. The temple of ‘Nanda’ in Almora was built by Dyot Chanda in seventeenth century\, the then ruler of this place. Presently this temple remains the core of the festival. The duration of the festival is five days and approximately twenty five thousand people tourist come to attend this festival.\n\nNanda Devi Fair is also orgnised at Nainital\, where a week long festival held at Nanda Devi temple.  At last a great procession of Maa Nanda Devi orgnised in the city .
URL:https://www.nainital.info/events/nanda-devi-mahotsav-nainital/
LOCATION:Nanda Devi Temple\, Flats/DSA Ground\, Nainital\, Uttarakhand\, 263001\, India
END:VEVENT
END:VCALENDAR